BEGIN:VCALENDAR
VERSION:2.0
PRODID:-//eventon.com NONSGML v1.0//EN
CALSCALE:GREGORIAN
METHOD:PUBLISH
BEGIN:VEVENT
UID:69e737bc66477
DTSTAMP:20260421T083924Z
DTSTART:20250515T163000Z
DTEND:20250515T180000Z
LOCATION:Biblioteca Montserrat Abelló C/ Comtes de Bell-Lloc\,  192 - 08014 Barcelona
SUMMARY:SESIÓN VIII CLUB DE LECTURA «SOLARIS» - 4ª ED.
DESCRIPTION:SESIÓN VIII CLUB DE LECTURA «SOLARIS» - 4ª ED.\nhttps://fun
 dacionasimov.org/events/sesion-viii-club-de-lectura-solaris-4a-ed/
URL:https://fundacionasimov.org/events/sesion-viii-club-de-lectura-solaris-4a-ed/
END:VEVENT
END:VCALENDAR